BEGIN:VCALENDAR
VERSION:2.0
PRODID:-//hacksw/handcal//NONSGML v1.0//EN
BEGIN:VEVENT
SUMMARY:Competition amicale de Pin Justaret
UID:ff0493c4-11b7-4b2a-8b54-01e0bd19c4ac
DTSTART:20260411T220000Z
DTEND:20260412T220000Z
LOCATION:Localisation   
CATEGORIES:Sportif
STATUS:
DESCRIPTION:<p class="Paragraphejustifi"
 style="text-align:justify;"><span style="font-size:12pt;"><span><span
 style="font-family:Arial, 'sans-serif';"><span
 style="font-family:'Comic Sans MS';">Cette rencontre amicale se
 deroulera a la <b>Salle Polyvalente de PINS-JUSTARET, Place Rene
 Loubet</b>.</span></span></span></span></p>
 
 <table align="center"
 class="Table" width="625">
 	<tbody>
 		<tr>
 			<td colspan="5"
 style="width:625px;" valign="top">
 			<p align="center"
 class="Standard" style="text-align:center;"><span
 style="font-size:12pt;"><span style="font-family:Arial,
 'sans-serif';"><b><span style="font-size:10pt;"><span
 style="font-family:'Comic Sans MS';">HORAIRE DES PESEES (FILLES ET
 GARCONS)</span></span></b></span></span></p>
 			</td>
 		</tr>
 		<tr>
 			<td
 style="width:146px;" valign="top">
 			<p align="center"
 class="Standard" style="text-align:center;"><span
 style="font-size:12pt;"><span style="font-family:Arial,
 'sans-serif';"><b><span style="font-size:10pt;"><span
 style="font-family:'Comic Sans
 MS';">HORAIRE</span></span></b></span></span></p>
 			</td>
 			<td
 style="width:114px;" valign="top">
 			<p align="center"
 class="Standard" style="text-align:center;"><span
 style="font-size:12pt;"><span style="font-family:Arial,
 'sans-serif';"><b><span style="font-size:10pt;"><span
 style="font-family:'Comic Sans MS';">CATEGORIE
 D'AGE</span></span></b></span></span></p>
 			</td>
 			<td
 style="width:149px;" valign="top">
 			<p align="center"
 class="Standard" style="text-align:center;"><span
 style="font-size:12pt;"><span style="font-family:Arial,
 'sans-serif';"><b><span style="font-size:10pt;"><span
 style="font-family:'Comic Sans MS';">ANNEE DE
 NAISSANCE</span></span></b></span></span></p>
 			</td>
 			<td
 style="width:110px;" valign="top">
 			<p align="center"
 class="Standard" style="text-align:center;"><span
 style="font-size:12pt;"><span style="font-family:Arial,
 'sans-serif';"><b><span style="font-size:10pt;"><span
 style="font-family:'Comic Sans MS';">FORMULE DE
 COMPETITION</span></span></b></span></span></p>
 			</td>
 			<td
 style="width:106px;" valign="top">
 			<p align="center"
 class="Standard" style="text-align:center;"><span
 style="font-size:12pt;"><span style="font-family:Arial,
 'sans-serif';"><b><span style="font-size:10pt;"><span
 style="font-family:'Comic Sans MS';">DUREE DES
 COMBATS</span></span></b></span></span></p>
 			</td>
 		</tr>
 		<tr>
 			<td
 style="width:146px;">
 			<p align="center" class="Standard"
 style="text-align:center;"><span style="font-size:12pt;"><span
 style="font-family:Arial, 'sans-serif';"><span
 style="font-size:10pt;"><span style="font-family:'Comic Sans
 MS';">9h  - 9h30</span></span></span></span></p>
 			</td>
 			<td
 style="width:114px;">
 			<p align="center" class="Standard"
 style="text-align:center;"><span style="font-size:12pt;"><span
 style="font-family:Arial, 'sans-serif';"><span
 style="font-size:10pt;"><span style="font-family:'Comic Sans
 MS';">BENJAMIN.E.S</span></span></span></span></p>
 			</td>
 			<td
 style="width:149px;">
 			<p align="center" class="Standard"
 style="text-align:center;"><span style="font-size:12pt;"><span
 style="font-family:Arial, 'sans-serif';"><span
 style="font-size:10pt;"><span style="font-family:'Comic Sans
 MS';">2014-2015</span></span></span></span></p>
 			</td>
 			<td
 style="width:110px;">
 			<p align="center" class="Standard"
 style="text-align:center;"><span style="font-size:12pt;"><span
 style="font-family:Arial, 'sans-serif';"><span
 style="font-size:10pt;"><span style="font-family:'Comic Sans
 MS';">COMPETITION</span></span></span></span></p>
 			</td>
 			<td
 style="width:106px;">
 			<p align="center" class="Standard"
 style="text-align:center;"><span style="font-size:12pt;"><span
 style="font-family:Arial, 'sans-serif';"><span
 style="font-size:10pt;"><span style="font-family:'Comic Sans
 MS';">2'</span></span></span></span></p>
 			</td>
 		</tr>
 		<tr>
 			<td
 style="width:146px;">
 			<p align="center" class="Standard"
 style="text-align:center;"><span style="font-size:12pt;"><span
 style="font-family:Arial, 'sans-serif';"><span
 style="font-size:10pt;"><span style="font-family:'Comic Sans
 MS';">9h30 – 10h</span></span></span></span></p>
 			</td>
 			<td
 style="width:114px;">
 			<p align="center" class="Standard"
 style="text-align:center;"><span style="font-size:12pt;"><span
 style="font-family:Arial, 'sans-serif';"><span
 style="font-size:10pt;"><span style="font-family:'Comic Sans
 MS';">MINIMES</span></span></span></span></p>
 
 			<p align="center"
 class="Standard" style="text-align:center;"><span
 style="font-size:12pt;"><span style="font-family:Arial,
 'sans-serif';"><span style="font-size:10pt;"><span
 style="font-family:'Comic Sans
 MS';">CADET.TE.S</span></span></span></span></p>
 			</td>
 			<td
 style="width:149px;">
 			<p align="center" class="Standard"
 style="text-align:center;"><span style="font-size:12pt;"><span
 style="font-family:Arial, 'sans-serif';"><span
 style="font-size:10pt;"><span style="font-family:'Comic Sans
 MS';">2012-2013</span></span></span></span></p>
 
 			<p align="center"
 class="Standard" style="text-align:center;"><span
 style="font-size:12pt;"><span style="font-family:Arial,
 'sans-serif';"><span style="font-size:10pt;"><span
 style="font-family:'Comic Sans MS';">2009,2010 et
 2011</span></span></span></span></p>
 			</td>
 			<td
 style="width:110px;">
 			<p align="center" class="Standard"
 style="text-align:center;"><span style="font-size:12pt;"><span
 style="font-family:Arial, 'sans-serif';"><span
 style="font-size:10pt;"><span style="font-family:'Comic Sans
 MS';">COMPETITION</span></span></span></span></p>
 			</td>
 			<td
 style="width:106px;">
 			<p align="center" class="Standard"
 style="text-align:center;"><span style="font-size:12pt;"><span
 style="font-family:Arial, 'sans-serif';"><span
 style="font-size:10pt;"><span style="font-family:'Comic Sans
 MS';">3'</span></span></span></span></p>
 			</td>
 		</tr>
 		<tr>
 			<td
 style="width:146px;">
 			<p align="center" class="Standard"
 style="text-align:center;"><span style="font-size:12pt;"><span
 style="font-family:Arial, 'sans-serif';"><span
 style="font-size:10pt;"><span style="font-family:'Comic Sans
 MS';">10h30 – 11h</span></span></span></span></p>
 			</td>
 			<td
 style="width:114px;">
 			<p align="center" class="Standard"
 style="text-align:center;"><span style="font-size:12pt;"><span
 style="font-family:Arial, 'sans-serif';"><span
 style="font-size:10pt;"><span style="font-family:'Comic Sans
 MS';">POUSSIN.E.S</span></span></span></span></p>
 			</td>
 			<td
 style="width:149px;">
 			<p align="center" class="Standard"
 style="text-align:center;"><span style="font-size:12pt;"><span
 style="font-family:Arial, 'sans-serif';"><span
 style="font-size:10pt;"><span style="font-family:'Comic Sans
 MS';">2016-2017</span></span></span></span></p>
 			</td>
 			<td
 style="width:110px;">
 			<p align="center" class="Standard"
 style="text-align:center;"><span style="font-size:12pt;"><span
 style="font-family:Arial, 'sans-serif';"><span
 style="font-size:10pt;"><span style="font-family:'Comic Sans
 MS';">ANIMATION
 RANDORI</span></span></span></span></p>
 			</td>
 			<td
 style="width:106px;">
 			<p align="center" class="Standard"
 style="text-align:center;"><span style="font-size:12pt;"><span
 style="font-family:Arial, 'sans-serif';"><span
 style="font-size:10pt;"><span style="font-family:'Comic Sans MS';">1'
 30</span></span></span></span></p>
 			</td>
 		</tr>
 		<tr>
 			<td
 style="width:146px;">
 			<p align="center" class="Standard"
 style="text-align:center;"><span style="font-size:12pt;"><span
 style="font-family:Arial, 'sans-serif';"><span
 style="font-size:10pt;"><span style="font-family:'Comic Sans
 MS';">13h30 – 14h</span></span></span></span></p>
 			</td>
 			<td
 style="width:114px;">
 			<p align="center" class="Standard"
 style="text-align:center;"><span style="font-size:12pt;"><span
 style="font-family:Arial, 'sans-serif';"><span
 style="font-size:10pt;"><span style="font-family:'Comic Sans
 MS';">MINI-POUSSIN.E.S</span></span></span></span></p>
 			</td>
 			<td
 style="width:149px;">
 			<p align="center" class="Standard"
 style="text-align:center;"><span style="font-size:12pt;"><span
 style="font-family:Arial, 'sans-serif';"><span
 style="font-size:10pt;"><span style="font-family:'Comic Sans
 MS';">2018-2019</span></span></span></span></p>
 			</td>
 			<td
 style="width:110px;">
 			<p align="center" class="Standard"
 style="text-align:center;"><span style="font-size:12pt;"><span
 style="font-family:Arial, 'sans-serif';"><span
 style="font-size:10pt;"><span style="font-family:'Comic Sans
 MS';">ANIMATION
 RANDORI</span></span></span></span></p>
 			</td>
 			<td
 style="width:106px;">
 			<p align="center" class="Standard"
 style="text-align:center;"><span style="font-size:12pt;"><span
 style="font-family:Arial, 'sans-serif';"><span
 style="font-size:10pt;"><span style="font-family:'Comic Sans MS';">1'
 30</span></span></span></span></p>
 			</td>
 		</tr>
 		<tr>
 			<td
 style="width:146px;">
 			<p align="center" class="Standard"
 style="text-align:center;"><span style="font-size:12pt;"><span
 style="font-family:Arial, 'sans-serif';"><span
 style="font-size:10pt;"><span style="font-family:'Comic Sans
 MS';">15h30 – 16h</span></span></span></span></p>
 			</td>
 			<td
 style="width:114px;">
 			<p align="center" class="Standard"
 style="text-align:center;"><span style="font-size:12pt;"><span
 style="font-family:Arial, 'sans-serif';"><span
 style="font-size:10pt;"><span style="font-family:'Comic Sans
 MS';">BABY-POUSSIN.E.S</span></span></span></span></p>
 			</td>
 			<td
 style="width:149px;">
 			<p align="center" class="Standard"
 style="text-align:center;"><span style="font-size:12pt;"><span
 style="font-family:Arial, 'sans-serif';"><span
 style="font-size:10pt;"><span style="font-family:'Comic Sans
 MS';">2020-2021</span></span></span></span></p>
 			</td>
 			<td
 style="width:110px;">
 			<p align="center" class="Standard"
 style="text-align:center;"><span style="font-size:12pt;"><span
 style="font-family:Arial, 'sans-serif';"><span
 style="font-size:10pt;"><span style="font-family:'Comic Sans
 MS';">ANIMATION<br>
 			NE
 WAZA</span></span></span></span></p>
 			</td>
 			<td
 style="width:106px;">
 			<p align="center" class="Standard"
 style="text-align:center;"><span style="font-size:12pt;"><span
 style="font-family:Arial, 'sans-serif';"><span
 style="font-size:10pt;"><span style="font-family:'Comic Sans MS';">1'
 30</span></span></span></span></p>
 			</td>
 		</tr>
 	</tbody>
 </table>
URL;VALUE=URI:https://tpjs.sportsregions.fr/evenements/2026/04/12/competition-amicale-de-pin-justaret-2431629
END:VEVENT
END:VCALENDAR
