BEGIN:VCALENDAR
VERSION:2.0
PRODID:-//hacksw/handcal//NONSGML v1.0//EN
BEGIN:VEVENT
SUMMARY:SAMBO : Championnat de France a Ceyrat !
UID:9bffdc12-0e93-4ffd-954b-4099b36258f6
DTSTART:20260327T230000Z
DTEND:20260329T230000Z
LOCATION:Localisation   
CATEGORIES:Sportif
STATUS:
URL;VALUE=URI:https://tpjs.sportsregions.fr/evenements/2026/03/28/sambo-championnat-de-france-a-ceyrat-2440671
END:VEVENT
END:VCALENDAR
